BEGIN:VCALENDAR
VERSION:2.0
PRODID:-//Profit.de - ECPv6.15.20//NONSGML v1.0//EN
CALSCALE:GREGORIAN
METHOD:PUBLISH
X-WR-CALNAME:Profit.de
X-ORIGINAL-URL:https://profit.de
X-WR-CALDESC:Veranstaltungen für Profit.de
REFRESH-INTERVAL;VALUE=DURATION:PT1H
X-Robots-Tag:noindex
X-PUBLISHED-TTL:PT1H
BEGIN:VTIMEZONE
TZID:Europe/Berlin
BEGIN:DAYLIGHT
TZOFFSETFROM:+0100
TZOFFSETTO:+0200
TZNAME:CEST
DTSTART:20250330T010000
END:DAYLIGHT
BEGIN:STANDARD
TZOFFSETFROM:+0200
TZOFFSETTO:+0100
TZNAME:CET
DTSTART:20251026T010000
END:STANDARD
BEGIN:DAYLIGHT
TZOFFSETFROM:+0100
TZOFFSETTO:+0200
TZNAME:CEST
DTSTART:20260329T010000
END:DAYLIGHT
BEGIN:STANDARD
TZOFFSETFROM:+0200
TZOFFSETTO:+0100
TZNAME:CET
DTSTART:20261025T010000
END:STANDARD
BEGIN:DAYLIGHT
TZOFFSETFROM:+0100
TZOFFSETTO:+0200
TZNAME:CEST
DTSTART:20270328T010000
END:DAYLIGHT
BEGIN:STANDARD
TZOFFSETFROM:+0200
TZOFFSETTO:+0100
TZNAME:CET
DTSTART:20271031T010000
END:STANDARD
END:VTIMEZONE
BEGIN:VEVENT
DTSTART;VALUE=DATE:20260505
DTEND;VALUE=DATE:20260507
DTSTAMP:20260426T025934
CREATED:20251031T100358Z
LAST-MODIFIED:20251031T100358Z
UID:4230-1777939200-1778111999@profit.de
SUMMARY:OMR Festival 2026
DESCRIPTION:Erlebe zwei Tage voller Insights\, Innovationen und Austausch mit den führenden Köpfen der Branche. \n🚀 Über 800 Speaker*innen und 1.000+ Ausstellende präsentieren neueste Strategien\, Tools und Trends. \n🎯 Ein volles Programm mit Keynotes\, Masterclasses\, Side Events und vielem mehr. \n💡 Erfahre\, wohin sich die digitale Welt bewegt – und vernetze dich mit den Entscheider*innen von morgen.
URL:https://profit.de/event/omr-festival-2026/
END:VEVENT
END:VCALENDAR